BEGIN:VCALENDAR
VERSION:2.0
PRODID:-//eventon.com NONSGML v1.0//EN
BEGIN:VEVENT
UID:69e5bf081a47a
DTSTAMP:20260420T055208
DTSTART:20190404T190000Z
DTEND:20190404T235000Z
LOCATION:Antic Mercat de Torrent. 2º piso. 
SUMMARY:Desde València hacia la eternidad
DESCRIPTION: Tres de nuestros mejores novelistas nos invitan a tres viajes muy distintos por sus novelas\,  que son también las páginas de nuestra historia. Todos tienen un objetivo común: la libertad.
END:VEVENT
END:VCALENDAR