BEGIN:VCALENDAR
VERSION:2.0
PRODID:-//eventon.com NONSGML v1.0//EN
BEGIN:VEVENT
UID:69e5a68f6c75e
DTSTAMP:20260420T040743
DTSTART:20190404T200000Z
DTEND:20190404T235000Z
LOCATION:Antic Mercat de Torrent. 2º piso. 
SUMMARY:Un grande de Roma
DESCRIPTION: Una imprescindible entrevista con el reciente ganador del Premio Planeta con “Yo\,  Julia” que nos internará\,  de su mano\,  en el fascinante mundo de la antigua Roma.
END:VEVENT
END:VCALENDAR