BEGIN:VCALENDAR
VERSION:2.0
PRODID:-//eventon.com NONSGML v1.0//EN
BEGIN:VEVENT
UID:69e58c9a9f3e0
DTSTAMP:20260420T021658
DTSTART:20190404T203000Z
DTEND:20190404T235000Z
LOCATION:Auditori de Torrent Carrer de Vicent Pallardó\,  25\,  46900 Torrent\,  Valencia
SUMMARY:Teatro: Historia de una maestra
DESCRIPTION: Adaptación teatral de la novela homónima de Josefina Aldecoa\,  "Historia de una maestra" narra la vida de una maestra de escuela durante los años veinte y hasta el comienzo de la Guerra Civil. Este espectáculo es un homenaje a todas aquellas maestras que lucharon por educar este país en una[..]
END:VEVENT
END:VCALENDAR