BEGIN:VCALENDAR
VERSION:2.0
PRODID:-//eventon.com NONSGML v1.0//EN
BEGIN:VEVENT
UID:69e578950c4de
DTSTAMP:20260420T005133
DTSTART:20190407T193000Z
DTEND:20190407T235000Z
LOCATION:Aula CAM Caja de Ahorros\,  14. 46900 Torrent\,  València
SUMMARY:Cine: AMADEUS
DESCRIPTION: AMADEUS (MILOS FORMAN\,  1984) 158 minutos Antonio Salieri es el músico más destacado de la corte del Emperador José II de Austria. Entregado completamente a la música\,  le promete a Dios humildad y castidad si\,  a cambio\,  conserva sus extraordinarias dotes musicales. Pero\,  después de la llegada a la corte[..]
END:VEVENT
END:VCALENDAR