BEGIN:VCALENDAR
VERSION:2.0
PRODID:-//eventon.com NONSGML v1.0//EN
BEGIN:VEVENT
UID:69e55bdfc78b4
DTSTAMP:20260419T224903
DTSTART:20190405T120000Z
DTEND:20190405T235000Z
LOCATION:Centro Instituto La Marxadella Carrer del Pare Mendez\,  151\,  46900 Torrent\,  València
SUMMARY:Historia en las aulas
DESCRIPTION: Encuentro de un autor con alumnos de centros de formación de Torrent para compartir juntos la pasión por la aventura de la Historia.
END:VEVENT
END:VCALENDAR