BEGIN:VCALENDAR
VERSION:2.0
PRODID:-//eventon.com NONSGML v1.0//EN
BEGIN:VEVENT
UID:69e52919a0a8b
DTSTAMP:20260419T191225
DTSTART:20190405T190000Z
DTEND:20190405T235000Z
LOCATION:Antic Mercat de Torrent. 2º piso. 
SUMMARY:A través del tiempo
DESCRIPTION: Tres autores nacionales muy respetados que nos trasladan a tres periodos muy distintos en escenarios de lo más variado: el Japón de los Samurais\,  la Francia del siglo XVI o la Rusia del periodo entreguerras.
END:VEVENT
END:VCALENDAR