BEGIN:VCALENDAR
VERSION:2.0
PRODID:-//eventon.com NONSGML v1.0//EN
BEGIN:VEVENT
UID:69e51150310ad
DTSTAMP:20260419T173056
DTSTART:20190405T200000Z
DTEND:20190405T235000Z
LOCATION:Antic Mercat de Torrent. 2º piso. 
SUMMARY:El germano errante
DESCRIPTION: Con Ánibal lo reconocimos con uno de los mejores autores internacional\,  y su última novela es La oreja del capitán. Gran conocedor de nuestra lengua y nuestro país\,  su conversación siempre es apasionante y promete llevarnos\,  al menos\,  tan lejos como sus novelas.
END:VEVENT
END:VCALENDAR