BEGIN:VCALENDAR
VERSION:2.0
PRODID:-//eventon.com NONSGML v1.0//EN
BEGIN:VEVENT
UID:69e4f904d3580
DTSTAMP:20260419T154716
DTSTART:20190405T223000Z
DTEND:20190405T235000Z
LOCATION:Aula CAM Caja de Ahorros\,  14. 46900 Torrent\,  València
SUMMARY:Cine: DUNKERQUE
DESCRIPTION: DUNKERQUE (Christopher Nolan\,  2017) 107 minutos Año 1940\,  en plena 2ª Guerra Mundial. En las playas de Dunkerque\,  cientos de miles de soldados de las tropas británicas y francesas se encuentran rodeados por el avance del ejército alemán\,  que ha invadido Francia. Atrapados en la playa\,  con el mar cortándoles[..]
END:VEVENT
END:VCALENDAR