BEGIN:VCALENDAR
VERSION:2.0
PRODID:-//eventon.com NONSGML v1.0//EN
BEGIN:VEVENT
UID:69e4e56bdda83
DTSTAMP:20260419T142339
DTSTART:20190406T100000Z
DTEND:20190406T140000Z
LOCATION:L'espai Jove Avinguda al Vedat 103\,  46900 Torrent
SUMMARY:Haz historia jugando
DESCRIPTION: Ven y participa en los distintos juegos de batallas históricas con miniaturas o con juegos de estrategia de mesa. Da igual tu edad y te experiencia anterior: aprende y juega.
END:VEVENT
END:VCALENDAR