BEGIN:VCALENDAR
VERSION:2.0
PRODID:-//eventon.com NONSGML v1.0//EN
BEGIN:VEVENT
UID:69e4cd54e5016
DTSTAMP:20260419T124052
DTSTART:20190406T190000Z
DTEND:20190406T235000Z
LOCATION:Antic Mercat de Torrent. 2º piso. 
SUMMARY:La cocina de la historia
DESCRIPTION: Jose Luis Corral y Jesús Maeso son indiscutiblemente dos de los grandes maestros de la novela histórica nacional\,  a los que acompañará Alejandro corral\,  alumno aventajado de ambos. Juntos prometen revelarnos algunos secretos de la creación histórica que se ocultan en la trastienda\,  lejos de la miradas más visibles.
END:VEVENT
END:VCALENDAR