BEGIN:VCALENDAR
VERSION:2.0
PRODID:-//eventon.com NONSGML v1.0//EN
BEGIN:VEVENT
UID:69e73d49cdf30
DTSTAMP:20260421T090305
DTSTART:20190406T223000Z
DTEND:20190406T235000Z
LOCATION:Aula CAM Caja de Ahorros\,  14. 46900 Torrent\,  València
SUMMARY:Cine: ELISABETH
DESCRIPTION: ELISABETH (Shekhar Kapur\,  1998) 123 minutos Inglaterra\,  año 1554. Tras la muerte de la reina María Tudor\,  que ha dejado al país sumido en un estado de inestabilidad financiera y crisis religiosa\,  sube al trono Isabel I (Cate Blanchett). Popularmente se la conoce como "La Reina Virgen"\,  aunque por su[..]
END:VEVENT
END:VCALENDAR