BEGIN:VCALENDAR
VERSION:2.0
PRODID:-//eventon.com NONSGML v1.0//EN
BEGIN:VEVENT
UID:69e73d49cddc0
DTSTAMP:20260421T090305
DTSTART:20190407T110000Z
DTEND:20190407T140000Z
LOCATION:Plaza la Torre Torre del Castillo de Torrent\,  Calle Mayor\,  s/n\,  46900 Torrent\,  Valencia
SUMMARY:Gran fiesta Torrent Històrica
DESCRIPTION: Gran fiesta final en la calle para todas las edades con cuentacuentos\,  juegos\,  recreación histórica\,  comida\,  música en directo\,  talleres\,  libros y mucho más. Esa mañana la Torre de Torrent permanecerá abierta para su visita. ¡Ven con la familia y celebra con nosotros este momento histórico!
END:VEVENT
END:VCALENDAR