BEGIN:VCALENDAR
VERSION:2.0
PRODID:-//eventon.com NONSGML v1.0//EN
BEGIN:VEVENT
UID:69e73b7f98298
DTSTAMP:20260421T085527
DTSTART:20190407T110000Z
DTEND:20190407T140000Z
LOCATION:Plaza la Torre Torre del Castillo de Torrent\,  Calle Mayor\,  s/n\,  46900 Torrent\,  Valencia
SUMMARY:Gran festa Torrent Històrica
DESCRIPTION: Gran festa final al carrer per a totes les edats amb cuentacuentos\,  jocs\,  recreació històrica\,  menjar\,  música en directe\,  tallers\,  llibres i molt més. Aqueix matí la Torre de Torrent romandrà oberta per a la seua visita. Veuen amb la família i celebra amb nosaltres aquest moment històric!
END:VEVENT
END:VCALENDAR