BEGIN:VCALENDAR
VERSION:2.0
PRODID:-//eventon.com NONSGML v1.0//EN
BEGIN:VEVENT
UID:69e78af964648
DTSTAMP:20260421T143433
DTSTART:20190406T223000Z
DTEND:20190406T235000Z
LOCATION:Aula CAM Caja de Ahorros\,  14. 46900 Torrent\,  València
SUMMARY:Cinema: ELISABETH
DESCRIPTION: ELISABETH (Shekhar Kapur\,  1998) 123 minuts Anglaterra\,  any 1554. Després de la mort de la reina María Tudor\,  que ha deixat al país sumit en un estat d'inestabilitat financera i crisi religiosa\,  puja al tron Isabel I (Cate Blanchett). Popularment se la coneix com "La Reina Verge"\,  encara que per[..]
END:VEVENT
END:VCALENDAR