BEGIN:VCALENDAR
VERSION:2.0
PRODID:-//eventon.com NONSGML v1.0//EN
BEGIN:VEVENT
UID:69e4cdf9536a6
DTSTAMP:20260419T124337
DTSTART:20190406T200000Z
DTEND:20190406T235000Z
LOCATION:Antic Mercat de Torrent. 2º piso. 
SUMMARY:Encendre el foc
DESCRIPTION: Les seues novel·les han sigut traduïdes a 36 llengües en més de 40 països. És la fundadora del premi Women’s Prize for Fiction i vicepresidenta del National Theater de Londres. Ens presentarà en exclusiva la seua novel·la “La Ciutat del Foc”\,  de la qual ha venut 7.000.000 exemplars a tot[..]
END:VEVENT
END:VCALENDAR