BEGIN:VCALENDAR
VERSION:2.0
PRODID:-//eventon.com NONSGML v1.0//EN
BEGIN:VEVENT
UID:69e4e75c106b8
DTSTAMP:20260419T143156
DTSTART:20190406T190000Z
DTEND:20190406T235000Z
LOCATION:Antic Mercat de Torrent. 2º piso. 
SUMMARY:La cuina de la història
DESCRIPTION: Jose Luis Corral i Jesús Maeso són indiscutiblement dos dels grans mestres de la novel·la històrica nacional\,  als quals acompanyarà Alejandro corral\,  alumne avantatjat de tots dos. Junts prometen revelar-nos alguns secrets de la creació històrica que s'oculten en la rebotiga\,  lluny de les mirades més visibles.
END:VEVENT
END:VCALENDAR