BEGIN:VCALENDAR
VERSION:2.0
PRODID:-//eventon.com NONSGML v1.0//EN
BEGIN:VEVENT
UID:69e4f81c2bcc9
DTSTAMP:20260419T154324
DTSTART:20190406T100000Z
DTEND:20190406T140000Z
LOCATION:L'espai Jove Avinguda al Vedat 103\,  46900 Torrent
SUMMARY:Fes història jugant
DESCRIPTION: Vine i participa en els diferents jocs de batalles històriques amb miniatures o amb jocs d'estratègia de taula. És igual la teua edat i la teua experiència prèvia: aprèn i juga.
END:VEVENT
END:VCALENDAR