BEGIN:VCALENDAR
VERSION:2.0
PRODID:-//eventon.com NONSGML v1.0//EN
BEGIN:VEVENT
UID:69e51150395c0
DTSTAMP:20260419T173056
DTSTART:20190405T223000Z
DTEND:20190405T235000Z
LOCATION:Aula CAM Caja de Ahorros\,  14. 46900 Torrent\,  València
SUMMARY:Cinema: DUNKERQUE
DESCRIPTION: DUNKERQUE (Christopher Nolan\,  2017) 107 minuts Any 1940\,  en plena 2a Guerra Mundial. A les platges de Dunkerque\,  centenars de milers de soldats de les tropes britàniques i franceses es troben envoltats per l'avanç de l'exèrcit alemany\,  que ha envaït França. Atrapats a la platja\,  amb el mar tallant-los el[..]
END:VEVENT
END:VCALENDAR