BEGIN:VCALENDAR
VERSION:2.0
PRODID:-//eventon.com NONSGML v1.0//EN
BEGIN:VEVENT
UID:69e5280aa23d0
DTSTAMP:20260419T190754
DTSTART:20190405T200000Z
DTEND:20190405T235000Z
LOCATION:Antic Mercat de Torrent. 2º piso. 
SUMMARY:El germà errant
DESCRIPTION: Amb Aníbal ho vam reconèixer com un dels millors autors internacionals\,  i la seua última novel·la és L'orella del capità. Gran coneixedor de la nostra llengua i el nostre país\,  la seua conversa sempre és apassionant i promet portar-nos\,  almenys\,  tan lluny com les seues novel·les.
END:VEVENT
END:VCALENDAR