BEGIN:VCALENDAR
VERSION:2.0
PRODID:-//eventon.com NONSGML v1.0//EN
BEGIN:VEVENT
UID:69e53ff61c06b
DTSTAMP:20260419T204958
DTSTART:20190405T190000Z
DTEND:20190405T235000Z
LOCATION:Auditori de Torrent Carrer de Vicent Pallardó\,  25\,  46900 Torrent\,  Valencia
SUMMARY:A través del temps
DESCRIPTION: Tres autors nacionals molt respectats que ens traslladen a tres períodes molt diferents en escenaris d'allò més variat: el Japó dels Samurais\,  la França del segle XVI o la Rússia del període d’entreguerres.
END:VEVENT
END:VCALENDAR