BEGIN:VCALENDAR
VERSION:2.0
PRODID:-//eventon.com NONSGML v1.0//EN
BEGIN:VEVENT
UID:69e5768613940
DTSTAMP:20260420T004246
DTSTART:20190405T120000Z
DTEND:20190405T235000Z
LOCATION:Centro Instituto La Marxadella Carrer del Pare Mendez\,  151\,  46900 Torrent\,  València
SUMMARY:Història en les aules
DESCRIPTION: Trobada d'un autor amb alumnes de centres de formació de Torrent per a compartir junts la passió per l'aventura de la Història.
END:VEVENT
END:VCALENDAR