BEGIN:VCALENDAR
VERSION:2.0
PRODID:-//eventon.com NONSGML v1.0//EN
BEGIN:VEVENT
UID:69e58d6eb5c71
DTSTAMP:20260420T022030
DTSTART:20190407T193000Z
DTEND:20190407T235000Z
LOCATION:Aula CAM Caja de Ahorros\,  14. 46900 Torrent\,  València
SUMMARY:Cinema: AMADEUS
DESCRIPTION: AMADEUS (MILOS FORMEN\,  1984) 158 minuts Antonio Salieri és el músic més destacat de la cort de l'Emperador José II d'Àustria. Lliurat completament a la música\,  li promet a Déu humilitat i castedat si\,  a canvi\,  conserva els seus extraordinaris dots musicals. Però\,  després de l'arribada a la cort d'un[..]
END:VEVENT
END:VCALENDAR