BEGIN:VCALENDAR
VERSION:2.0
PRODID:-//eventon.com NONSGML v1.0//EN
BEGIN:VEVENT
UID:69e5a2ec522d0
DTSTAMP:20260420T035212
DTSTART:20190404T203000Z
DTEND:20190404T235000Z
LOCATION:Auditori de Torrent Carrer de Vicent Pallardó\,  25\,  46900 Torrent\,  Valencia
SUMMARY:Teatre: Història d’una mestra
DESCRIPTION: Adaptació teatral de la novel·la homònima de Josefina Aldecoa\,  Historia de una maestra\,  que narra la vida d’una mestra d’escola durant els anys vint i fins l’inici de la Guerra Civil. Este espectacle és un homenatge a totes aquelles mestres que lluitaren per educar este país en una època de[..]
END:VEVENT
END:VCALENDAR