BEGIN:VCALENDAR
VERSION:2.0
PRODID:-//eventon.com NONSGML v1.0//EN
BEGIN:VEVENT
UID:69e5b7563ccee
DTSTAMP:20260420T051918
DTSTART:20190404T200000Z
DTEND:20190404T235000Z
LOCATION:Antic Mercat de Torrent. 2º piso. 
SUMMARY:Un gran de Roma
DESCRIPTION: Una atractiva entrevista amb el recent guanyador del Premi Planeta amb Yo\,  Julia\,  que ens internará de la seua mà en el fascinant món de l’antiga Roma.
END:VEVENT
END:VCALENDAR