BEGIN:VCALENDAR
VERSION:2.0
PRODID:-//eventon.com NONSGML v1.0//EN
BEGIN:VEVENT
UID:69e5d3457ba9d
DTSTAMP:20260420T071829
DTSTART:20190404T190000Z
DTEND:20190404T235000Z
LOCATION:Antic Mercat de Torrent. 2º piso. 
SUMMARY:Des de València cap a la eternitat
DESCRIPTION: Tres dels nostres millors novel·listes ens conviden a tres viatges molt diferents per les seues novel·les\,  que són també les pàgines de la nostra història. Tots tres tenen un objectiu comú: la llibertat.
END:VEVENT
END:VCALENDAR