BEGIN:VCALENDAR
VERSION:2.0
PRODID:-//eventon.com NONSGML v1.0//EN
BEGIN:VEVENT
UID:69e5e40401fcb
DTSTAMP:20260420T082956
DTSTART:20201127T000000Z
DTEND:20201129T235900Z
LOCATION:Canal YouTube Ajuntament de Torrent 
SUMMARY:POETAS MEDIEVALES: VENGATIVOS\,  LUJURIOSOS Y RENCOROSOS
DESCRIPTION: El Marqués de Santillana\,  Jorge Manrique\,  el Arcipreste de Hita y otros poetas medievales nos servirán para entender que la Edad Media no fue tan diferente a nuestros tiempos en lo que a vicios y virtudes humanos se refiere.
END:VEVENT
END:VCALENDAR