BEGIN:VCALENDAR
VERSION:2.0
PRODID:-//eventon.com NONSGML v1.0//EN
BEGIN:VEVENT
UID:69e5f8e218efc
DTSTAMP:20260420T095858
DTSTART:20201127T000000Z
DTEND:20201129T235900Z
LOCATION:Canal YouTube Ajuntament de Torrent 
SUMMARY:POETES MEDIEVALS: VENJATIUS\,  LUXURIOSOS I RENCOROSOS
DESCRIPTION: El Marquès de Santillana\,  Jorge Manrique\,  l'Arcipreste de Hita i altres poetes medievals ens serviran per a entendre que l'Edat Mitjana no va ser tan diferent als nostres temps en el que a vicis i virtuts humans es refereix.
END:VEVENT
END:VCALENDAR