BEGIN:VCALENDAR
VERSION:2.0
PRODID:-//eventon.com NONSGML v1.0//EN
BEGIN:VEVENT
UID:69e5e5e1d4ccd
DTSTAMP:20260420T083753
DTSTART:20231115T200000Z
DTEND:20231115T235000Z
LOCATION:Auditori de Torrent Carrer de Vicent Pallardó\,  25\,  46900 Torrent\,  Valencia
SUMMARY:CARTAS VIVAS: CARMEN LAFORET Y ELENA FORTÚN
DESCRIPTION: RETALES DE MEMORIA FEMENINA A TRAVÉS DE LOS TESTIMONIOS DE PENSADORAS RELEVANTES Las cartas entre Elena Fortún y Carmen Laforet cobran vida sobre un escenario en una propuesta escénica que llega a España desde el Cervantes Theatre de Londres y que parte de su epistolario De corazón y alma y[..]
END:VEVENT
END:VCALENDAR