BEGIN:VCALENDAR
VERSION:2.0
PRODID:-//eventon.com NONSGML v1.0//EN
BEGIN:VEVENT
UID:69e5f40017ed2
DTSTAMP:20260420T093808
DTSTART:20221120T113000Z
DTEND:20221120T235000Z
LOCATION:Casa de Cultura Torrent Antic Carrer de Mossen Sicra\,  17\,  46900 Torrent\,  Valencia
SUMMARY:BATALLA DE ESCRITORES: PERFORMANCE NARRATIVA
DESCRIPTION: ¿Alguna vez has visto un espectáculo literario donde tus autores favoritos construyan una historia ante tus ojos? Prepárate para fascinarte\,  para aprender y sobre todo\,  para pasártelo muy bien y divertirte con este evento. Estamos seguros de que nunca has visto algo así.
END:VEVENT
END:VCALENDAR