BEGIN:VCALENDAR
VERSION:2.0
PRODID:-//eventon.com NONSGML v1.0//EN
BEGIN:VEVENT
UID:69e5f8dd62bf2
DTSTAMP:20260420T095853
DTSTART:20221120T110000Z
DTEND:20221120T235000Z
LOCATION:Antic Mercat de Torrent. 2º piso. 
SUMMARY:ACTIVIDAD INFANTIL: TORRENT EN CÓMIC
DESCRIPTION: ¿Sabes cómo se escribe un comic? A partir del cómic Una historia de Torrent\,  contada en seis actos y un epílogo\,  vamos a crear otra historia de Torrent... ¡creada por ti! Porque\,  ¿quién mejor que los niños y niñas de una ciudad para contar su historia?  Entre todos/as indagaremos sobre[..]
END:VEVENT
END:VCALENDAR