BEGIN:VCALENDAR
VERSION:2.0
PRODID:-//eventon.com NONSGML v1.0//EN
BEGIN:VEVENT
UID:69e5e60737ee2
DTSTAMP:20260420T083831
DTSTART:20231117T210000Z
DTEND:20231117T235000Z
LOCATION:Casa de Cultura Torrent Antic Carrer de Mossen Sicra\,  17\,  46900 Torrent\,  Valencia
SUMMARY:PERSONATGES FORA DE LES PÀGINES
DESCRIPTION: Els llibres són objectes que llegim en la intimitat\,  que només tenen vida dins de les seues pàgines. Però\,  què succeeix si reinterpretem el text des d'una altra perspectiva? Què ocorreria si els personatges prengueren l'escenari i fins i tot pogueren dialogar amb els seus creadors?
END:VEVENT
END:VCALENDAR