BEGIN:VCALENDAR
VERSION:2.0
PRODID:-//eventon.com NONSGML v1.0//EN
BEGIN:VEVENT
UID:69e8a0cf5269d
DTSTAMP:20260422T101959
DTSTART:20231116T200000Z
DTEND:20231116T235000Z
LOCATION:Salón de actos - Ayuntamiento de Torrent 
SUMMARY:THRILLERS QUE FAN HISTÒRIA
DESCRIPTION: La novel·la històrica sol explicar-se en clau de novel·la pausada\,  amb pols literari però amb l'espai suficient per a desenvolupar ambients desconeguts per al lector. Però\,  cada vegada més\,  hi ha una novel·la que hibrida tècniques del gènere negre (investigació\,  desenvolupament trepidant i peripècia) i que la situa en llocs[..]
END:VEVENT
END:VCALENDAR