BEGIN:VCALENDAR
VERSION:2.0
PRODID:-//eventon.com NONSGML v1.0//EN
BEGIN:VEVENT
UID:69e5e403ee5d4
DTSTAMP:20260420T082955
DTSTART:20221118T120000Z
DTEND:20221118T235000Z
LOCATION:IES Veles e Vents Torrent Camí dels Cánters\,  s/n\,  46900 Torrent\,  Valencia
SUMMARY:Historia en las aulas
DESCRIPTION: Encuentro de Alfonso-Mateo Sagasta con alumnos de centros de formación de Torrent para compartir juntos la pasión por la aventura de la Historia.
END:VEVENT
END:VCALENDAR